BEGIN:VCALENDAR
METHOD:PUBLISH
PRODID:-//Weblication CMS
VERSION:2.0
BEGIN:VEVENT
SUMMARY:06.–11.07.2026 - Stampflehmbau 
DTSTART:20260706T090000
DTEND:20260711T160000
DESCRIPTION:Mit ECVET-Zertifikat Lern°Lehm B3
LOCATION:
UID:https://www.igbauernhaus.de/de/2_nachrichten-und-termine/termine/06-11-07-2026-Stampflehmbau.php
URL:https://www.igbauernhaus.de/de/2_nachrichten-und-termine/termine/06-11-07-2026-Stampflehmbau.php
END:VEVENT
END:VCALENDAR