BEGIN:VCALENDAR
METHOD:PUBLISH
PRODID:-//Weblication CMS
VERSION:2.0
BEGIN:VEVENT
SUMMARY:22.–26.06.2026 - Stampflehmböden
DTSTART:20260622T090000
DTEND:20260626T160000
DESCRIPTION:Stampflehmboden und Gestalten mit Stampflehm
LOCATION:
UID:https://www.igbauernhaus.de/de/2_nachrichten-und-termine/termine/22-26-06-2026-Stampflehmboeden.php
URL:https://www.igbauernhaus.de/de/2_nachrichten-und-termine/termine/22-26-06-2026-Stampflehmboeden.php
END:VEVENT
END:VCALENDAR